BEGIN:VCALENDAR
METHOD:PUBLISH
PRODID:-//Weblication CMS
VERSION:2.0
BEGIN:VEVENT
SUMMARY:Découvrez TS3 Live : l&#039;innovation et l&#039;avenir de la construction durable
DTSTART:20261029T000000
DTEND:20261029T000000
DESCRIPTION:Nous vous proposons une occasion unique de découvrir par vous-même nos solutions innovantes dans la région de Lucerne. Au cours d'une visite guidée exclusive, vous découvrirez comment TS3 révolutionne les processus de construction. Profitez de cette occasion de réseautage et découvrez l'avenir de la construction !
LOCATION:Région de Lucerne
UID:https://ts3.biz/fr/events/termine/20261029_ts3live_lu.php
URL:https://ts3.biz/fr/events/termine/20261029_ts3live_lu.php
END:VEVENT
END:VCALENDAR