BEGIN:VCALENDAR
METHOD:PUBLISH
PRODID:-//Weblication CMS
VERSION:2.0
BEGIN:VEVENT
SUMMARY:Découvrez TS3 Live : l&#039;innovation et l&#039;avenir de la construction durable
DTSTART:20260924T000000
DTEND:20260924T000000
DESCRIPTION:Nous vous offrons une occasion unique de découvrir par vous-même nos solutions innovantes dans la région de Coire. Au cours d'une visite guidée exclusive, vous découvrirez comment TS3 révolutionne les processus de construction. Profitez de cette occasion pour nouer des contacts et découvrir l'avenir du bâtiment !
LOCATION:Région de Coire
UID:https://ts3.biz/fr/events/termine/20260924_ts3live_chur.php
URL:https://ts3.biz/fr/events/termine/20260924_ts3live_chur.php
END:VEVENT
END:VCALENDAR