BEGIN:VCALENDAR
METHOD:PUBLISH
PRODID:-//Weblication CMS
VERSION:2.0
BEGIN:VEVENT
SUMMARY:Découvrez TS3 Live : l&#039;innovation et l&#039;avenir de la construction durable
DTSTART:20260611T000000
DTEND:20260611T000000
DESCRIPTION:Nous vous offrons une occasion unique de découvrir par vous-même nos solutions innovantes dans la région de Berne. Au cours d'une visite guidée exclusive, vous découvrirez comment TS3 révolutionne les processus de construction. Profitez de cette occasion pour nouer des contacts et découvrir l'avenir du bâtiment !
LOCATION:Région de Berne
UID:https://ts3.biz/fr/events/termine/20260611_ts3live_be.php
URL:https://ts3.biz/fr/events/termine/20260611_ts3live_be.php
END:VEVENT
END:VCALENDAR