BEGIN:VCALENDAR
METHOD:PUBLISH
PRODID:-//Weblication CMS
VERSION:2.0
BEGIN:VEVENT
SUMMARY:Découvrez TS3 Live : l&#039;innovation et l&#039;avenir de la construction durable
DTSTART:20260505T000000
DTEND:20260505T000000
DESCRIPTION:Nous vous proposons une occasion unique de découvrir par vous-même nos solutions innovantes dans la région de Zurich et de la Suisse orientale. Lors d'une visite exclusive sur site, vous découvrirez comment TS3 révolutionne les processus de construction. Profitez de cette occasion pour nouer des contacts et découvrir l'avenir du bâtiment !
LOCATION:Région de Zurich
UID:https://ts3.biz/fr/events/termine/20260505_ts3live_zh.php
URL:https://ts3.biz/fr/events/termine/20260505_ts3live_zh.php
END:VEVENT
END:VCALENDAR