BEGIN:VCALENDAR
METHOD:PUBLISH
PRODID:-//Weblication CMS
VERSION:2.0
BEGIN:VEVENT
SUMMARY:Experience TS3 Live: Innovation and the Future of Sustainable Construction
DTSTART:20261029T000000
DTEND:20261029T000000
DESCRIPTION:We are offering you an exclusive opportunity to experience our innovative solutions firsthand in the Lucerne region. During an exclusive site tour, you’ll learn how TS3 is revolutionizing construction processes. Take advantage of this networking opportunity and discover the future of construction!
LOCATION:Region Lucerne
UID:https://ts3.biz/en/events/termine/20261029_ts3live_lu.php
URL:https://ts3.biz/en/events/termine/20261029_ts3live_lu.php
END:VEVENT
END:VCALENDAR