BEGIN:VCALENDAR
METHOD:PUBLISH
PRODID:-//Weblication CMS
VERSION:2.0
BEGIN:VEVENT
SUMMARY:Experience TS3 Live: Innovation and the Future of Sustainable Construction
DTSTART:20260924T000000
DTEND:20260924T000000
DESCRIPTION:We are offering you an exclusive opportunity to experience our innovative solutions firsthand in the Chur region. During an exclusive site tour, you’ll learn how TS3 is revolutionizing construction processes. Take advantage of this chance to network and discover the future of construction!
LOCATION:Region Chur
UID:https://ts3.biz/en/events/termine/20260924_ts3live_chur.php
URL:https://ts3.biz/en/events/termine/20260924_ts3live_chur.php
END:VEVENT
END:VCALENDAR