BEGIN:VCALENDAR
METHOD:PUBLISH
PRODID:-//Weblication CMS
VERSION:2.0
BEGIN:VEVENT
SUMMARY:Experience TS3 Live: Innovation and the Future of Sustainable Construction
DTSTART:20260505T000000
DTEND:20260505T000000
DESCRIPTION:We are offering you an exclusive opportunity to experience our innovative solutions firsthand in the Zurich/Eastern Switzerland region. During an exclusive site visit, you’ll learn how TS3 is revolutionizing construction processes. Take advantage of this chance to network and discover the future of construction!
LOCATION:Region Zurich
UID:https://ts3.biz/en/events/termine/20260505_ts3live_zh.php
URL:https://ts3.biz/en/events/termine/20260505_ts3live_zh.php
END:VEVENT
END:VCALENDAR