BEGIN:VCALENDAR
METHOD:PUBLISH
PRODID:-//Weblication CMS
VERSION:2.0
BEGIN:VEVENT
SUMMARY:TS3 Live erleben: Innovation und Zukunft des nachhaltigen Bauens
DTSTART:20261029T000000
DTEND:20261029T000000
DESCRIPTION:Wir bieten Ihnen die exklusive Gelegenheit, in der Region Luzern unsere innovativen Lösungen live kennenzulernen. Bei einer exklusiven Baustellenbesichtigung erfahren Sie, wie TS3 Bauprozesse revolutioniert. Nutzen Sie die Chance zum Networking und entdecken Sie die Zukunft des Bauens!
LOCATION:Region Luzern
UID:https://ts3.biz/de/events/termine/20261029_ts3live_lu.php
URL:https://ts3.biz/de/events/termine/20261029_ts3live_lu.php
END:VEVENT
END:VCALENDAR