BEGIN:VCALENDAR
METHOD:PUBLISH
PRODID:-//Weblication CMS
VERSION:2.0
BEGIN:VEVENT
SUMMARY:TS3 Live erleben: Innovation und Zukunft des nachhaltigen Bauens
DTSTART:20260505T000000
DTEND:20260505T000000
DESCRIPTION:Wir bieten Ihnen die exklusive Gelegenheit, in der Region Zürich / Ostschweiz unsere innovativen Lösungen live kennenzulernen. Bei einer exklusiven Baustellenbesichtigung erfahren Sie, wie TS3 Bauprozesse revolutioniert. Nutzen Sie die Chance zum Networking und entdecken Sie die Zukunft des Bauens!
LOCATION:Region Zürich / Ostschweiz
UID:https://ts3.biz/de/events/termine/20260505_ts3live_zh.php
URL:https://ts3.biz/de/events/termine/20260505_ts3live_zh.php
END:VEVENT
END:VCALENDAR